BEGIN:VCALENDAR
VERSION:2.0
PRODID:-//Kommunalfabrik Ratsinformationssystem https://ris-raguhn-jessnitz.komfa.de/
X-WR-TIMEZONE:Europe/Berlin
X-WR-CALNAME:Sitzungskalender
X-WR-CALDESC:Ris Raguhn-Jessnitz
BEGIN:VEVENT
UID:CE239F651E2174ACED145AF7B8047DD6
ORGANIZER;CN="":MAILTO:
LOCATION:Gemeindeamt Schierau, Niesauer Straße 1, 06779 Raguhn-Jeßnitz, OT Schierau
SUMMARY:Ortschaftsrat Schierau
DESCRIPTION:Ortschaftsrat Schierau, Stadt Raguhn-Jeßnitz, Ortschaftsrat Schierau, Gemeindeamt Schierau, Niesauer Straße 1, 06779 Raguhn-Jeßnitz, OT Schierau
CLASS:CONFIDENTIAL
DTSTART:20260507T170000Z
DTEND:20260507T180000Z
DTSTAMP:20260423T123535Z
END:VEVENT
END:VCALENDAR