BEGIN:VCALENDAR
VERSION:2.0
PRODID:-//Kommunalfabrik Ratsinformationssystem https://ris-raguhn-jessnitz.komfa.de/
X-WR-TIMEZONE:Europe/Berlin
X-WR-CALNAME:Sitzungskalender
X-WR-CALDESC:Ris Raguhn-Jessnitz
BEGIN:VEVENT
UID:AF1B9326F32BC7AAE914069FC0043F45
ORGANIZER;CN="":MAILTO:
LOCATION:Rathaus Jeßnitz (Anhalt) - Ratssaal im Erdgeschoss, Conradiplatz 7, 06800 Raguhn-Jeßnitz, OT Jeßnitz (Anhalt)
SUMMARY:Ortschaftsrat Jeßnitz (Anhalt)
DESCRIPTION:Ortschaftsrat Jeßnitz (Anhalt), Stadt Raguhn-Jeßnitz, Ortschaftsrat Jeßnitz (Anhalt), Rathaus Jeßnitz (Anhalt) - Ratssaal im Erdgeschoss, Conradiplatz 7, 06800 Raguhn-Jeßnitz, OT Jeßnitz (Anhalt)
CLASS:CONFIDENTIAL
DTSTART:20260310T173000Z
DTEND:20260310T190000Z
DTSTAMP:20260421T081919Z
END:VEVENT
END:VCALENDAR